BEGIN:VCALENDAR
VERSION:2.0
PRODID:-//rssny.org//NONSGML kigkonsult.se iCalcreator 2.30.10//
CALSCALE:GREGORIAN
METHOD:PUBLISH
UID:99ee1778-5c61-429d-a374-f22b32225a0a
X-WR-CALDESC:Please fill out this form:\n\nhttps://rssny.org/class-forms/te
 chnology-training.html
X-WR-RELCALID:f40f7254ee893a710b2f1d3eb311f066
X-WR-TIMEZONE:America/New_York
BEGIN:VTIMEZONE
TZID:America/New_York
BEGIN:STANDARD
TZNAME:EST
DTSTART:20251102T020000
TZOFFSETFROM:-0400
TZOFFSETTO:-0500
RDATE:20261101T020000
END:STANDARD
BEGIN:DAYLIGHT
TZNAME:EDT
DTSTART:20260308T020000
TZOFFSETFROM:-0500
TZOFFSETTO:-0400
RDATE:20270314T020000
END:DAYLIGHT
END:VTIMEZONE
BEGIN:VEVENT
UID:d4e56070-449f-4d16-998d-ade3163efee3
DTSTAMP:20260420T062829Z
DESCRIPTION:Please fill out this form:\n\nhttps://rssny.org/class-forms/tec
 hnology-training.html
DTSTART;TZID=America/New_York:20260324T110000
DTEND;TZID=America/New_York:20260324T120000
LOCATION:https://rssny.org/class-forms/technology-training.html
SUMMARY:Technology Group Training with Caroline: OMNY card (Online)
END:VEVENT
END:VCALENDAR
