BEGIN:VCALENDAR
VERSION:2.0
PRODID:-//rssny.org//NONSGML kigkonsult.se iCalcreator 2.30.10//
CALSCALE:GREGORIAN
METHOD:PUBLISH
UID:87f62e5a-7c3b-4d4b-ab8f-e2e25bb46892
X-WR-CALDESC:
X-WR-RELCALID:1310b2069869088897b74cddf802a272
X-WR-TIMEZONE:America/New_York
BEGIN:VTIMEZONE
TZID:America/New_York
BEGIN:STANDARD
TZNAME:EST
DTSTART:20251102T020000
TZOFFSETFROM:-0400
TZOFFSETTO:-0500
RDATE:20261101T020000
END:STANDARD
BEGIN:DAYLIGHT
TZNAME:EDT
DTSTART:20260308T020000
TZOFFSETFROM:-0500
TZOFFSETTO:-0400
RDATE:20270314T020000
END:DAYLIGHT
END:VTIMEZONE
BEGIN:VEVENT
UID:1e0aae87-7242-44dc-834f-8cafcbd2c533
DTSTAMP:20260420T061136Z
DESCRIPTION:
DTSTART;TZID=America/New_York:20260317T130000
DTEND;TZID=America/New_York:20260317T140000
LOCATION:
SUMMARY:Advisory Council - Invitation Only  (IN CENTER)
END:VEVENT
END:VCALENDAR
