BEGIN:VCALENDAR
VERSION:2.0
PRODID:-//rssny.org//NONSGML kigkonsult.se iCalcreator 2.30.10//
CALSCALE:GREGORIAN
METHOD:PUBLISH
UID:e0c06fe2-8ffe-4d76-8d2d-d3df5a92abb8
X-WR-CALDESC:To register: https://rssny.org/class-forms/healthy-cooking-and
 -nutrition-with-maudene.html\n\nIt's Nutrition Awareness Month\, and we wi
 ll celebrate with another fabulous cooking demonstration with RSS Dietitia
 n\, Maudene Nelson.
X-WR-RELCALID:8f2e7651ea7d2105d803d60d6ae1d4da
X-WR-TIMEZONE:America/New_York
BEGIN:VTIMEZONE
TZID:America/New_York
BEGIN:STANDARD
TZNAME:EST
DTSTART:20251102T020000
TZOFFSETFROM:-0400
TZOFFSETTO:-0500
RDATE:20261101T020000
END:STANDARD
BEGIN:DAYLIGHT
TZNAME:EDT
DTSTART:20260308T020000
TZOFFSETFROM:-0500
TZOFFSETTO:-0400
RDATE:20270314T020000
END:DAYLIGHT
END:VTIMEZONE
BEGIN:VEVENT
UID:2010e77f-cde2-46ac-92ba-4e6a92be7452
DTSTAMP:20260420T063315Z
DESCRIPTION:To register: https://rssny.org/class-forms/healthy-cooking-and-
 nutrition-with-maudene.html\n\nIt's Nutrition Awareness Month\, and we wil
 l celebrate with another fabulous cooking demonstration with RSS Dietitian
 \, Maudene Nelson.
DTSTART;TZID=America/New_York:20260313T133000
DTEND;TZID=America/New_York:20260313T150000
LOCATION:https://rssny.org/class-forms/healthy-cooking-and-nutrition-with-m
 audene.html
SUMMARY:Discover the Power of Nutrition – Cooking Demo with Maudene (Hybrid
 )
END:VEVENT
END:VCALENDAR
