BEGIN:VCALENDAR
VERSION:2.0
PRODID:-//rssny.org//NONSGML kigkonsult.se iCalcreator 2.30.10//
CALSCALE:GREGORIAN
METHOD:PUBLISH
UID:2334e522-8d2b-46c4-aa6f-a4d53ac49aba
X-WR-CALDESC:Join us for breakfast at the Center!
X-WR-RELCALID:1fac4e62820d0b9598f5f850d59b0166
X-WR-TIMEZONE:America/New_York
BEGIN:VTIMEZONE
TZID:America/New_York
BEGIN:STANDARD
TZNAME:EST
DTSTART:20251102T020000
TZOFFSETFROM:-0400
TZOFFSETTO:-0500
RDATE:20261101T020000
END:STANDARD
BEGIN:DAYLIGHT
TZNAME:EDT
DTSTART:20260308T020000
TZOFFSETFROM:-0500
TZOFFSETTO:-0400
RDATE:20270314T020000
END:DAYLIGHT
END:VTIMEZONE
BEGIN:VEVENT
UID:84682df2-b4c0-4466-bd3d-37295ac6ca09
DTSTAMP:20260420T062737Z
DESCRIPTION:Join us for breakfast at the Center!
DTSTART;TZID=America/New_York:20260313T090000
DTEND;TZID=America/New_York:20260313T100000
LOCATION:
SUMMARY:Breakfast Club (In Center)
END:VEVENT
END:VCALENDAR
