BEGIN:VCALENDAR
VERSION:2.0
PRODID:-//rssny.org//NONSGML kigkonsult.se iCalcreator 2.30.10//
CALSCALE:GREGORIAN
METHOD:PUBLISH
UID:08a9b64e-8a9f-4b56-9fb4-05464f82e1cf
X-WR-CALDESC:This class is in the center.\n\nLevel: Beginner
X-WR-RELCALID:d4461ac24de8fbc05f69a912ea8b02cf
X-WR-TIMEZONE:America/New_York
BEGIN:VTIMEZONE
TZID:America/New_York
BEGIN:STANDARD
TZNAME:EST
DTSTART:20251102T020000
TZOFFSETFROM:-0400
TZOFFSETTO:-0500
RDATE:20261101T020000
END:STANDARD
BEGIN:DAYLIGHT
TZNAME:EDT
DTSTART:20260308T020000
TZOFFSETFROM:-0500
TZOFFSETTO:-0400
RDATE:20270314T020000
END:DAYLIGHT
END:VTIMEZONE
BEGIN:VEVENT
UID:5b154f57-c8c7-4002-ba81-191a1773643b
DTSTAMP:20260420T062828Z
DESCRIPTION:This class is in the center.\n\nLevel: Beginner
DTSTART;TZID=America/New_York:20260310T130000
DTEND;TZID=America/New_York:20260310T140000
LOCATION:
SUMMARY:Technology Group Training with Caroline: Searching the internet\, n
 avigating websites (IN CENTER)
END:VEVENT
END:VCALENDAR
