BEGIN:VCALENDAR
VERSION:2.0
PRODID:-//rssny.org//NONSGML kigkonsult.se iCalcreator 2.30.10//
CALSCALE:GREGORIAN
METHOD:PUBLISH
UID:db0a48e0-3a76-4c92-a0bf-866195556c2a
X-WR-CALDESC:Join us for breakfast at the Center!
X-WR-RELCALID:8ed23bc9382d1666b6fa10b7442c36ce
X-WR-TIMEZONE:America/New_York
BEGIN:VTIMEZONE
TZID:America/New_York
BEGIN:STANDARD
TZNAME:EST
DTSTART:20251102T020000
TZOFFSETFROM:-0400
TZOFFSETTO:-0500
RDATE:20261101T020000
END:STANDARD
BEGIN:DAYLIGHT
TZNAME:EDT
DTSTART:20250309T020000
TZOFFSETFROM:-0500
TZOFFSETTO:-0400
RDATE:20260308T020000
RDATE:20270314T020000
END:DAYLIGHT
END:VTIMEZONE
BEGIN:VEVENT
UID:de381388-17a0-443f-8302-2c2e61605cec
DTSTAMP:20260420T062254Z
DESCRIPTION:Join us for breakfast at the Center!
DTSTART;TZID=America/New_York:20260306T090000
DTEND;TZID=America/New_York:20260306T100000
LOCATION:
SUMMARY:Breakfast Club (In Center)
END:VEVENT
END:VCALENDAR
