BEGIN:VCALENDAR
VERSION:2.0
PRODID:-//rssny.org//NONSGML kigkonsult.se iCalcreator 2.30.10//
CALSCALE:GREGORIAN
METHOD:PUBLISH
UID:2b5ac34d-cfaf-49ba-8fac-9ad7fc277e58
X-WR-CALDESC:Come and start your morning with Chair yoga and meditation.
X-WR-RELCALID:d8bedea95fecd3366ff0676c875adfaf
X-WR-TIMEZONE:America/New_York
BEGIN:VTIMEZONE
TZID:America/New_York
BEGIN:STANDARD
TZNAME:EST
DTSTART:20251102T020000
TZOFFSETFROM:-0400
TZOFFSETTO:-0500
RDATE:20261101T020000
END:STANDARD
BEGIN:DAYLIGHT
TZNAME:EDT
DTSTART:20250309T020000
TZOFFSETFROM:-0500
TZOFFSETTO:-0400
RDATE:20260308T020000
RDATE:20270314T020000
END:DAYLIGHT
END:VTIMEZONE
BEGIN:VEVENT
UID:3557ae73-d63c-4343-877f-bc010384220f
DTSTAMP:20260420T063437Z
DESCRIPTION:Come and start your morning with Chair yoga and meditation.
DTSTART;TZID=America/New_York:20260305T094500
DTEND;TZID=America/New_York:20260305T104500
LOCATION:
SUMMARY:Chair Yoga with Anita: Qi Yoga for the Nervous System (In Center)
END:VEVENT
END:VCALENDAR
