BEGIN:VCALENDAR
VERSION:2.0
PRODID:-//rssny.org//NONSGML kigkonsult.se iCalcreator 2.30.10//
CALSCALE:GREGORIAN
METHOD:PUBLISH
UID:967193f7-3c9f-4d0b-b44b-b4b803305aae
X-WR-CALDESC:Maria Tallchief\, an American ballerina\nhttps://en.wikipedia.
 org/wiki/Maria_Tallchief\n
X-WR-RELCALID:ccdba5241e7678f2add6a0beb2c1b412
X-WR-TIMEZONE:America/New_York
BEGIN:VTIMEZONE
TZID:America/New_York
BEGIN:STANDARD
TZNAME:EST
DTSTART:20251102T020000
TZOFFSETFROM:-0400
TZOFFSETTO:-0500
RDATE:20261101T020000
END:STANDARD
BEGIN:DAYLIGHT
TZNAME:EDT
DTSTART:20250309T020000
TZOFFSETFROM:-0500
TZOFFSETTO:-0400
RDATE:20260308T020000
RDATE:20270314T020000
END:DAYLIGHT
END:VTIMEZONE
BEGIN:VEVENT
UID:a93e4b44-2978-42b9-9355-9d6a1af6b584
DTSTAMP:20260420T062743Z
DESCRIPTION:Maria Tallchief\, an American ballerina\nhttps://en.wikipedia.o
 rg/wiki/Maria_Tallchief\n
DTSTART;TZID=America/New_York:20260301T160000
DTEND;TZID=America/New_York:20260301T171500
LOCATION:https://rssny.org/music_appreciation.html
SUMMARY:Music Appreciation with Diana: Maria Tallchief (Online)
END:VEVENT
END:VCALENDAR
