BEGIN:VCALENDAR
VERSION:2.0
PRODID:-//rssny.org//NONSGML kigkonsult.se iCalcreator 2.30.10//
CALSCALE:GREGORIAN
METHOD:PUBLISH
UID:d671d985-8957-4428-8a2a-0c1fadaf3fce
X-WR-CALDESC:Join us for breakfast at the Center!
X-WR-RELCALID:b8a52a8099f52bc9dc8fc8c98c8ca698
X-WR-TIMEZONE:America/New_York
BEGIN:VTIMEZONE
TZID:America/New_York
BEGIN:STANDARD
TZNAME:EST
DTSTART:20251102T020000
TZOFFSETFROM:-0400
TZOFFSETTO:-0500
RDATE:20261101T020000
END:STANDARD
BEGIN:DAYLIGHT
TZNAME:EDT
DTSTART:20250309T020000
TZOFFSETFROM:-0500
TZOFFSETTO:-0400
RDATE:20260308T020000
RDATE:20270314T020000
END:DAYLIGHT
END:VTIMEZONE
BEGIN:VEVENT
UID:8bac780f-85e2-4d49-a810-feddaff3b9a3
DTSTAMP:20260420T075215Z
DESCRIPTION:Join us for breakfast at the Center!
DTSTART;TZID=America/New_York:20260227T090000
DTEND;TZID=America/New_York:20260227T100000
LOCATION:
SUMMARY:Breakfast Club (In Center)
END:VEVENT
END:VCALENDAR
