BEGIN:VCALENDAR
VERSION:2.0
PRODID:-//rssny.org//NONSGML kigkonsult.se iCalcreator 2.30.10//
CALSCALE:GREGORIAN
METHOD:PUBLISH
UID:901a0959-54f1-49f0-8c79-035168022f2b
X-WR-CALDESC:To register: https://rssny.org/class-forms/chair-yoga-with-ani
 ta.html
X-WR-RELCALID:d9c1ec1e585707cbfd6281ff6f438122
X-WR-TIMEZONE:America/New_York
BEGIN:VTIMEZONE
TZID:America/New_York
BEGIN:STANDARD
TZNAME:EST
DTSTART:20251102T020000
TZOFFSETFROM:-0400
TZOFFSETTO:-0500
RDATE:20261101T020000
END:STANDARD
BEGIN:DAYLIGHT
TZNAME:EDT
DTSTART:20250309T020000
TZOFFSETFROM:-0500
TZOFFSETTO:-0400
RDATE:20260308T020000
RDATE:20270314T020000
END:DAYLIGHT
END:VTIMEZONE
BEGIN:VEVENT
UID:065be4e3-be15-4e37-ae85-316b75540b8d
DTSTAMP:20260420T075644Z
DESCRIPTION:To register: https://rssny.org/class-forms/chair-yoga-with-anit
 a.html
DTSTART;TZID=America/New_York:20260226T090000
DTEND;TZID=America/New_York:20260226T094500
LOCATION:https://rssny.org/class-forms/chair-yoga-with-anita.html
SUMMARY:Chair Yoga with Anita: Qi Yoga for the Nervous System (Online)
END:VEVENT
END:VCALENDAR
