BEGIN:VCALENDAR
VERSION:2.0
PRODID:-//rssny.org//NONSGML kigkonsult.se iCalcreator 2.30.10//
CALSCALE:GREGORIAN
METHOD:PUBLISH
UID:001d7426-ef19-47cc-b90d-96e53367bb9f
X-WR-CALDESC:To register: https://rssny.org/class-forms/health-talks.html\n
 \nParticipants will learn about risk factors\, sign and symptoms\, prevent
 able measures to reduce the risk to a heart attack.\n\n
X-WR-RELCALID:55309b23f3783e57dceaac395ef484c9
X-WR-TIMEZONE:America/New_York
BEGIN:VTIMEZONE
TZID:America/New_York
BEGIN:STANDARD
TZNAME:EST
DTSTART:20251102T020000
TZOFFSETFROM:-0400
TZOFFSETTO:-0500
RDATE:20261101T020000
END:STANDARD
BEGIN:DAYLIGHT
TZNAME:EDT
DTSTART:20250309T020000
TZOFFSETFROM:-0500
TZOFFSETTO:-0400
RDATE:20260308T020000
RDATE:20270314T020000
END:DAYLIGHT
END:VTIMEZONE
BEGIN:VEVENT
UID:4b6e0f21-9857-420e-ad45-e7f2c585773f
DTSTAMP:20260420T075646Z
DESCRIPTION:To register: https://rssny.org/class-forms/health-talks.html\n
 \nParticipants will learn about risk factors\, sign and symptoms\, prevent
 able measures to reduce the risk to a heart attack.\n\n
DTSTART;TZID=America/New_York:20260220T110000
DTEND;TZID=America/New_York:20260220T120000
LOCATION:https://rssny.org/class-forms/health-talks.html
SUMMARY:Heart Health Month: Act in Time to Reduce Your Risk for a Heart Att
 ack with Montefiore (Hybrid)
END:VEVENT
END:VCALENDAR
