BEGIN:VCALENDAR
VERSION:2.0
PRODID:-//rssny.org//NONSGML kigkonsult.se iCalcreator 2.30.10//
CALSCALE:GREGORIAN
METHOD:PUBLISH
UID:5e51eb36-7da6-44b6-8af6-006fe99b957c
X-WR-CALDESC:https://us02web.zoom.us/meeting/register/MAikLnLtTxeW-egzTEH_s
 Q
X-WR-RELCALID:369698814e46c66e3a3c258677caa7f6
X-WR-TIMEZONE:America/New_York
BEGIN:VTIMEZONE
TZID:America/New_York
BEGIN:STANDARD
TZNAME:EST
DTSTART:20251102T020000
TZOFFSETFROM:-0400
TZOFFSETTO:-0500
RDATE:20261101T020000
END:STANDARD
BEGIN:DAYLIGHT
TZNAME:EDT
DTSTART:20250309T020000
TZOFFSETFROM:-0500
TZOFFSETTO:-0400
RDATE:20260308T020000
RDATE:20270314T020000
END:DAYLIGHT
END:VTIMEZONE
BEGIN:VEVENT
UID:178094b0-f787-4bf9-8805-cfc47f1ef237
DTSTAMP:20260420T075048Z
DESCRIPTION:https://us02web.zoom.us/meeting/register/MAikLnLtTxeW-egzTEH_sQ
DTSTART;TZID=America/New_York:20260218T170000
DTEND;TZID=America/New_York:20260218T180000
LOCATION:https://us02web.zoom.us/meeting/register/MAikLnLtTxeW-egzTEH_sQ
SUMMARY:Notre Dame Revisited: A Phoenix Museum Presentation (Online)
END:VEVENT
END:VCALENDAR
