BEGIN:VCALENDAR
VERSION:2.0
PRODID:-//rssny.org//NONSGML kigkonsult.se iCalcreator 2.30.10//
CALSCALE:GREGORIAN
METHOD:PUBLISH
UID:2392536d-3c6b-4aed-b3e2-70dd5728365b
X-WR-CALDESC:Mardi Gras isn't complete without a mask! Come join us to make
  your own mask and celebrate!
X-WR-RELCALID:0fe3bec5b351c5103f485b3e7303b547
X-WR-TIMEZONE:America/New_York
BEGIN:VTIMEZONE
TZID:America/New_York
BEGIN:STANDARD
TZNAME:EST
DTSTART:20251102T020000
TZOFFSETFROM:-0400
TZOFFSETTO:-0500
RDATE:20261101T020000
END:STANDARD
BEGIN:DAYLIGHT
TZNAME:EDT
DTSTART:20250309T020000
TZOFFSETFROM:-0500
TZOFFSETTO:-0400
RDATE:20260308T020000
RDATE:20270314T020000
END:DAYLIGHT
END:VTIMEZONE
BEGIN:VEVENT
UID:ccc761a2-78db-4c80-8a32-df7ff0f16d81
DTSTAMP:20260420T075033Z
DESCRIPTION:Mardi Gras isn't complete without a mask! Come join us to make 
 your own mask and celebrate!
DTSTART;TZID=America/New_York:20260217T103000
DTEND;TZID=America/New_York:20260217T120000
LOCATION:
SUMMARY:Making Mardi Gras Masks (In Center)
END:VEVENT
END:VCALENDAR
