BEGIN:VCALENDAR
VERSION:2.0
PRODID:-//rssny.org//NONSGML kigkonsult.se iCalcreator 2.30.10//
CALSCALE:GREGORIAN
METHOD:PUBLISH
UID:249c4314-f1ef-4a8f-8168-072fe39e979a
X-WR-CALDESC:Have fun creating Valentine's Cards for someone you care about
 . Share them with someone you love...a family member\, friend or someone w
 ho needs to know you care. \n\n
X-WR-RELCALID:e3c23e7d6c2292b4f1d1d752f74d04a5
X-WR-TIMEZONE:America/New_York
BEGIN:VTIMEZONE
TZID:America/New_York
BEGIN:STANDARD
TZNAME:EST
DTSTART:20251102T020000
TZOFFSETFROM:-0400
TZOFFSETTO:-0500
RDATE:20261101T020000
END:STANDARD
BEGIN:DAYLIGHT
TZNAME:EDT
DTSTART:20250309T020000
TZOFFSETFROM:-0500
TZOFFSETTO:-0400
RDATE:20260308T020000
RDATE:20270314T020000
END:DAYLIGHT
END:VTIMEZONE
BEGIN:VEVENT
UID:cb2bcf0d-4156-4c2e-864b-383175834ce0
DTSTAMP:20260420T075241Z
DESCRIPTION:Have fun creating Valentine's Cards for someone you care about.
  Share them with someone you love...a family member\, friend or someone wh
 o needs to know you care. \n\n
DTSTART;TZID=America/New_York:20260213T103000
DTEND;TZID=America/New_York:20260213T120000
LOCATION:
SUMMARY:Making Valentine Days Cards with LInda (In Center)
END:VEVENT
END:VCALENDAR
