BEGIN:VCALENDAR
VERSION:2.0
PRODID:-//rssny.org//NONSGML kigkonsult.se iCalcreator 2.30.10//
CALSCALE:GREGORIAN
METHOD:PUBLISH
UID:fe629bb2-df6d-4cb9-ace7-07fc7bf9b0d6
X-WR-CALDESC:Weekly non-competitive bridge game
X-WR-RELCALID:c430c713dcfeabb86e617a48c25da9b2
X-WR-TIMEZONE:America/New_York
BEGIN:VTIMEZONE
TZID:America/New_York
BEGIN:STANDARD
TZNAME:EST
DTSTART:20251102T020000
TZOFFSETFROM:-0400
TZOFFSETTO:-0500
RDATE:20261101T020000
END:STANDARD
BEGIN:DAYLIGHT
TZNAME:EDT
DTSTART:20250309T020000
TZOFFSETFROM:-0500
TZOFFSETTO:-0400
RDATE:20260308T020000
RDATE:20270314T020000
END:DAYLIGHT
END:VTIMEZONE
BEGIN:VEVENT
UID:e577b4e5-1238-44e2-b1c5-47530f430500
DTSTAMP:20260420T075032Z
DESCRIPTION:Weekly non-competitive bridge game
DTSTART;TZID=America/New_York:20260213T131500
DTEND;TZID=America/New_York:20260213T163000
LOCATION:
SUMMARY:Leisure Games Bridge (In Center)
END:VEVENT
END:VCALENDAR
