BEGIN:VCALENDAR
VERSION:2.0
PRODID:-//rssny.org//NONSGML kigkonsult.se iCalcreator 2.30.10//
CALSCALE:GREGORIAN
METHOD:PUBLISH
UID:255b1172-cf5b-4402-b4e7-b18003e0decc
X-WR-CALDESC:Click Here to Register - https://airtable.com/appXGCAC8Qle5hwr
 m/shrO59MUISZyYYJ7D\n
X-WR-RELCALID:2f23a559ff927abf1883030b4a1f4d5b
X-WR-TIMEZONE:America/New_York
BEGIN:VTIMEZONE
TZID:America/New_York
BEGIN:STANDARD
TZNAME:EST
DTSTART:20251102T020000
TZOFFSETFROM:-0400
TZOFFSETTO:-0500
RDATE:20261101T020000
END:STANDARD
BEGIN:DAYLIGHT
TZNAME:EDT
DTSTART:20250309T020000
TZOFFSETFROM:-0500
TZOFFSETTO:-0400
RDATE:20260308T020000
RDATE:20270314T020000
END:DAYLIGHT
END:VTIMEZONE
BEGIN:VEVENT
UID:2a6c0214-7447-41b0-a59a-add796226782
DTSTAMP:20260420T075047Z
DESCRIPTION:Click Here to Register - https://airtable.com/appXGCAC8Qle5hwrm
 /shrO59MUISZyYYJ7D\n
DTSTART;TZID=America/New_York:20260212T130000
DTEND;TZID=America/New_York:20260212T140000
LOCATION:https://airtable.com/appXGCAC8Qle5hwrm/shrO59MUISZyYYJ7D
SUMMARY:Concerts in Motion: Coffehouse Thursdays- NOT AN RSS PROGRAM)
END:VEVENT
END:VCALENDAR
