BEGIN:VCALENDAR
VERSION:2.0
PRODID:-//rssny.org//NONSGML kigkonsult.se iCalcreator 2.30.10//
CALSCALE:GREGORIAN
METHOD:PUBLISH
UID:112d0d08-df23-409d-986d-ae8d758ff915
X-WR-CALDESC:Join us for breakfast at the Center!
X-WR-RELCALID:c3cea16cdc0363754d4841c16f5e34b4
X-WR-TIMEZONE:America/New_York
BEGIN:VTIMEZONE
TZID:America/New_York
BEGIN:STANDARD
TZNAME:EST
DTSTART:20251102T020000
TZOFFSETFROM:-0400
TZOFFSETTO:-0500
RDATE:20261101T020000
END:STANDARD
BEGIN:DAYLIGHT
TZNAME:EDT
DTSTART:20250309T020000
TZOFFSETFROM:-0500
TZOFFSETTO:-0400
RDATE:20260308T020000
RDATE:20270314T020000
END:DAYLIGHT
END:VTIMEZONE
BEGIN:VEVENT
UID:11b586fc-b395-4386-a4f4-c7e814e631d7
DTSTAMP:20260420T075241Z
DESCRIPTION:Join us for breakfast at the Center!
DTSTART;TZID=America/New_York:20260206T090000
DTEND;TZID=America/New_York:20260206T100000
LOCATION:
SUMMARY:Breakfast Club (In Center)
END:VEVENT
END:VCALENDAR
