BEGIN:VCALENDAR
VERSION:2.0
PRODID:-//rssny.org//NONSGML kigkonsult.se iCalcreator 2.30.10//
CALSCALE:GREGORIAN
METHOD:PUBLISH
UID:31ce7c6d-6c57-4cb7-a9e6-d56ed6f6ae3a
X-WR-CALDESC:Weekly non-competitive bridge game
X-WR-RELCALID:6c64dfbc15d618127529dfe4dc73310c
X-WR-TIMEZONE:America/New_York
BEGIN:VTIMEZONE
TZID:America/New_York
BEGIN:STANDARD
TZNAME:EST
DTSTART:20251102T020000
TZOFFSETFROM:-0400
TZOFFSETTO:-0500
RDATE:20261101T020000
END:STANDARD
BEGIN:DAYLIGHT
TZNAME:EDT
DTSTART:20250309T020000
TZOFFSETFROM:-0500
TZOFFSETTO:-0400
RDATE:20260308T020000
RDATE:20270314T020000
END:DAYLIGHT
END:VTIMEZONE
BEGIN:VEVENT
UID:0e0e0e79-66e5-4f86-b4c3-528194deaebe
DTSTAMP:20260420T092705Z
DESCRIPTION:Weekly non-competitive bridge game
DTSTART;TZID=America/New_York:20260130T131500
DTEND;TZID=America/New_York:20260130T163000
LOCATION:
SUMMARY:Leisure Games Bridge (In Center)
END:VEVENT
END:VCALENDAR
