BEGIN:VCALENDAR
VERSION:2.0
PRODID:-//rssny.org//NONSGML kigkonsult.se iCalcreator 2.30.10//
CALSCALE:GREGORIAN
METHOD:PUBLISH
UID:6b8c55a8-9e9f-4f11-9eb8-3391ca2651d6
X-WR-CALDESC:This class is in the center.\n\nLevel: Beginner
X-WR-RELCALID:2aebf41b27c40793ac2a2ac3f97f52dd
X-WR-TIMEZONE:America/New_York
BEGIN:VTIMEZONE
TZID:America/New_York
BEGIN:STANDARD
TZNAME:EST
DTSTART:20251102T020000
TZOFFSETFROM:-0400
TZOFFSETTO:-0500
RDATE:20261101T020000
END:STANDARD
BEGIN:DAYLIGHT
TZNAME:EDT
DTSTART:20250309T020000
TZOFFSETFROM:-0500
TZOFFSETTO:-0400
RDATE:20260308T020000
RDATE:20270314T020000
END:DAYLIGHT
END:VTIMEZONE
BEGIN:VEVENT
UID:ecd8b899-a61a-48b7-987d-b25bffba129d
DTSTAMP:20260420T092609Z
DESCRIPTION:This class is in the center.\n\nLevel: Beginner
DTSTART;TZID=America/New_York:20260127T130000
DTEND;TZID=America/New_York:20260127T140000
LOCATION:
SUMMARY:Technology Group Training with Caroline (IN CENTER) CANCELED
END:VEVENT
END:VCALENDAR
