BEGIN:VCALENDAR
VERSION:2.0
PRODID:-//rssny.org//NONSGML kigkonsult.se iCalcreator 2.30.10//
CALSCALE:GREGORIAN
METHOD:PUBLISH
UID:8ffb3471-20b4-424a-b432-7c1b89c5edeb
X-WR-CALDESC:This class is in the center.\n\nLevel: Beginner
X-WR-RELCALID:3282e246186d8e1c9d886a744ad7f8ef
X-WR-TIMEZONE:America/New_York
BEGIN:VTIMEZONE
TZID:America/New_York
BEGIN:STANDARD
TZNAME:EST
DTSTART:20251102T020000
TZOFFSETFROM:-0400
TZOFFSETTO:-0500
RDATE:20261101T020000
END:STANDARD
BEGIN:DAYLIGHT
TZNAME:EDT
DTSTART:20250309T020000
TZOFFSETFROM:-0500
TZOFFSETTO:-0400
RDATE:20260308T020000
RDATE:20270314T020000
END:DAYLIGHT
END:VTIMEZONE
BEGIN:VEVENT
UID:6edd9841-ec50-45fd-9856-877ac4cc18b7
DTSTAMP:20260420T092446Z
DESCRIPTION:This class is in the center.\n\nLevel: Beginner
DTSTART;TZID=America/New_York:20260120T130000
DTEND;TZID=America/New_York:20260120T140000
LOCATION:
SUMMARY:Technology Group Training with Caroline (IN CENTER)
END:VEVENT
END:VCALENDAR
