BEGIN:VCALENDAR
VERSION:2.0
PRODID:-//rssny.org//NONSGML kigkonsult.se iCalcreator 2.30.10//
CALSCALE:GREGORIAN
METHOD:PUBLISH
UID:4ab1e9f7-e0e8-4719-a795-b121e1781b83
X-WR-CALDESC:Come and start your morning with Chair yoga and meditation.
X-WR-RELCALID:fb46f1cec024f54e56725a7a53863d75
X-WR-TIMEZONE:America/New_York
BEGIN:VTIMEZONE
TZID:America/New_York
BEGIN:STANDARD
TZNAME:EST
DTSTART:20251102T020000
TZOFFSETFROM:-0400
TZOFFSETTO:-0500
RDATE:20261101T020000
END:STANDARD
BEGIN:DAYLIGHT
TZNAME:EDT
DTSTART:20250309T020000
TZOFFSETFROM:-0500
TZOFFSETTO:-0400
RDATE:20260308T020000
RDATE:20270314T020000
END:DAYLIGHT
END:VTIMEZONE
BEGIN:VEVENT
UID:2c760797-5ca7-42e3-9963-35b2ae10d555
DTSTAMP:20260420T094517Z
DESCRIPTION:Come and start your morning with Chair yoga and meditation.
DTSTART;TZID=America/New_York:20260115T094500
DTEND;TZID=America/New_York:20260115T104500
LOCATION:
SUMMARY:Chair Yoga with Anita: Presence in Motion (In Center) CANCELED
END:VEVENT
END:VCALENDAR
