BEGIN:VCALENDAR
VERSION:2.0
PRODID:-//rssny.org//NONSGML kigkonsult.se iCalcreator 2.30.10//
CALSCALE:GREGORIAN
METHOD:PUBLISH
UID:f2f3aece-8fc2-4d26-b07f-69cf3c24a91d
X-WR-CALDESC:This class is in the center.\n\nLevel: Beginner
X-WR-RELCALID:959c73d4b291633d429e25d62071e0b0
X-WR-TIMEZONE:America/New_York
BEGIN:VTIMEZONE
TZID:America/New_York
BEGIN:STANDARD
TZNAME:EST
DTSTART:20251102T020000
TZOFFSETFROM:-0400
TZOFFSETTO:-0500
RDATE:20261101T020000
END:STANDARD
BEGIN:DAYLIGHT
TZNAME:EDT
DTSTART:20250309T020000
TZOFFSETFROM:-0500
TZOFFSETTO:-0400
RDATE:20260308T020000
RDATE:20270314T020000
END:DAYLIGHT
END:VTIMEZONE
BEGIN:VEVENT
UID:ba2e81f3-ff6c-4a07-b9e3-fef359f4d156
DTSTAMP:20260420T094557Z
DESCRIPTION:This class is in the center.\n\nLevel: Beginner
DTSTART;TZID=America/New_York:20260106T130000
DTEND;TZID=America/New_York:20260106T140000
LOCATION:
SUMMARY:Technology Group Training with Caroline (IN CENTER)
END:VEVENT
END:VCALENDAR
