BEGIN:VCALENDAR
VERSION:2.0
PRODID:-//rssny.org//NONSGML kigkonsult.se iCalcreator 2.30.10//
CALSCALE:GREGORIAN
METHOD:PUBLISH
UID:3d9bc4d5-2092-4752-b352-28ee67c436a5
X-WR-CALDESC:Please fill out this form:\n\nhttps://rssny.org/class-forms/te
 chnology-training.html
X-WR-RELCALID:e7fb18b83d41626c4d4ee8d39178255a
X-WR-TIMEZONE:America/New_York
BEGIN:VTIMEZONE
TZID:America/New_York
BEGIN:STANDARD
TZNAME:EST
DTSTART:20251102T020000
TZOFFSETFROM:-0400
TZOFFSETTO:-0500
RDATE:20261101T020000
END:STANDARD
BEGIN:DAYLIGHT
TZNAME:EDT
DTSTART:20250309T020000
TZOFFSETFROM:-0500
TZOFFSETTO:-0400
RDATE:20260308T020000
RDATE:20270314T020000
END:DAYLIGHT
END:VTIMEZONE
BEGIN:VEVENT
UID:ccd2b084-8439-4978-865a-364bbee2ef51
DTSTAMP:20260420T092312Z
DESCRIPTION:Please fill out this form:\n\nhttps://rssny.org/class-forms/tec
 hnology-training.html
DTSTART;TZID=America/New_York:20260106T110000
DTEND;TZID=America/New_York:20260106T120000
LOCATION:https://rssny.org/class-forms/technology-training.html
SUMMARY:Technology Group Training with Caroline: Online
END:VEVENT
END:VCALENDAR
