BEGIN:VCALENDAR
VERSION:2.0
PRODID:-//rssny.org//NONSGML kigkonsult.se iCalcreator 2.30.10//
CALSCALE:GREGORIAN
METHOD:PUBLISH
UID:fb8b1c24-664b-404c-873b-73d342433fd8
X-WR-CALDESC:Weekly non-competitive bridge game
X-WR-RELCALID:8f119e1a3ee38cbaec5116a5ac49c7f8
X-WR-TIMEZONE:America/New_York
BEGIN:VTIMEZONE
TZID:America/New_York
BEGIN:STANDARD
TZNAME:EST
DTSTART:20251102T020000
TZOFFSETFROM:-0400
TZOFFSETTO:-0500
RDATE:20261101T020000
END:STANDARD
BEGIN:DAYLIGHT
TZNAME:EDT
DTSTART:20250309T020000
TZOFFSETFROM:-0500
TZOFFSETTO:-0400
RDATE:20260308T020000
RDATE:20270314T020000
END:DAYLIGHT
END:VTIMEZONE
BEGIN:VEVENT
UID:a3ab64c9-ad38-4f57-9c83-15ece8f779dc
DTSTAMP:20260420T092601Z
DESCRIPTION:Weekly non-competitive bridge game
DTSTART;TZID=America/New_York:20260102T131500
DTEND;TZID=America/New_York:20260102T163000
LOCATION:
SUMMARY:Leisure Games Bridge (In Center)
END:VEVENT
END:VCALENDAR
