BEGIN:VCALENDAR
VERSION:2.0
PRODID:-//rssny.org//NONSGML kigkonsult.se iCalcreator 2.30.10//
CALSCALE:GREGORIAN
METHOD:PUBLISH
UID:80d5da7a-7d20-42b8-8220-558364bd8379
X-WR-CALDESC:Join us and explore the Seven Principles of this empowering cu
 ltural celebration. Learn its history\, meaning\, and how it enriches live
 s.
X-WR-RELCALID:908bd220d32d69abdd051371738ff857
X-WR-TIMEZONE:America/New_York
BEGIN:VTIMEZONE
TZID:America/New_York
BEGIN:STANDARD
TZNAME:EST
DTSTART:20251102T020000
TZOFFSETFROM:-0400
TZOFFSETTO:-0500
RDATE:20261101T020000
END:STANDARD
BEGIN:DAYLIGHT
TZNAME:EDT
DTSTART:20250309T020000
TZOFFSETFROM:-0500
TZOFFSETTO:-0400
RDATE:20260308T020000
RDATE:20270314T020000
END:DAYLIGHT
END:VTIMEZONE
BEGIN:VEVENT
UID:67b0d17d-71cf-4cf5-a2f8-6f865881ef03
DTSTAMP:20260420T131720Z
DESCRIPTION:Join us and explore the Seven Principles of this empowering cul
 tural celebration. Learn its history\, meaning\, and how it enriches lives
 .
DTSTART;TZID=America/New_York:20251226T131500
DTEND;TZID=America/New_York:20251226T143000
LOCATION:
SUMMARY:More Than a Holiday: Exploring the Principles of Kwanzaa (Hybrid)
END:VEVENT
END:VCALENDAR
