BEGIN:VCALENDAR
VERSION:2.0
PRODID:-//rssny.org//NONSGML kigkonsult.se iCalcreator 2.30.10//
CALSCALE:GREGORIAN
METHOD:PUBLISH
UID:8f05cb0c-a425-4c7e-ae6f-28c954c49609
X-WR-CALDESC:
X-WR-RELCALID:d5a63d84011a72d1eb537a976cd68c98
X-WR-TIMEZONE:America/New_York
BEGIN:VTIMEZONE
TZID:America/New_York
BEGIN:STANDARD
TZNAME:EST
DTSTART:20251102T020000
TZOFFSETFROM:-0400
TZOFFSETTO:-0500
RDATE:20261101T020000
END:STANDARD
BEGIN:DAYLIGHT
TZNAME:EDT
DTSTART:20250309T020000
TZOFFSETFROM:-0500
TZOFFSETTO:-0400
RDATE:20260308T020000
RDATE:20270314T020000
END:DAYLIGHT
END:VTIMEZONE
BEGIN:VEVENT
UID:c2c2182a-576d-4997-925c-45b443bccf27
DTSTAMP:20260420T104828Z
DESCRIPTION:
DTSTART;TZID=America/New_York:20251225T060000
DTEND;TZID=America/New_York:20251225T060001
LOCATION:
SUMMARY:CENTER CLOSED - Christmas DAY
END:VEVENT
END:VCALENDAR
