BEGIN:VCALENDAR
VERSION:2.0
PRODID:-//rssny.org//NONSGML kigkonsult.se iCalcreator 2.30.10//
CALSCALE:GREGORIAN
METHOD:PUBLISH
UID:42fdaa30-a61f-4963-bb76-6791770ffd1a
X-WR-CALDESC:Click Here to Register - https://airtable.com/appXGCAC8Qle5hwr
 m/shrO59MUISZyYYJ7D\n
X-WR-RELCALID:a835d87dd1025686f8a60c43e99f974c
X-WR-TIMEZONE:America/New_York
BEGIN:VTIMEZONE
TZID:America/New_York
BEGIN:STANDARD
TZNAME:EST
DTSTART:20251102T020000
TZOFFSETFROM:-0400
TZOFFSETTO:-0500
RDATE:20261101T020000
END:STANDARD
BEGIN:DAYLIGHT
TZNAME:EDT
DTSTART:20250309T020000
TZOFFSETFROM:-0500
TZOFFSETTO:-0400
RDATE:20260308T020000
RDATE:20270314T020000
END:DAYLIGHT
END:VTIMEZONE
BEGIN:VEVENT
UID:bbe1e445-1a2a-47ee-9cc7-ac6d6088e7f8
DTSTAMP:20260420T110627Z
DESCRIPTION:Click Here to Register - https://airtable.com/appXGCAC8Qle5hwrm
 /shrO59MUISZyYYJ7D\n
DTSTART;TZID=America/New_York:20251204T130000
DTEND;TZID=America/New_York:20251204T140000
LOCATION:https://airtable.com/appXGCAC8Qle5hwrm/shrO59MUISZyYYJ7D
SUMMARY:Concerts in Motion: Coffehouse Thursdays- NOT AN RSS PROGRAM)
END:VEVENT
END:VCALENDAR
