BEGIN:VCALENDAR
VERSION:2.0
PRODID:-//rssny.org//NONSGML kigkonsult.se iCalcreator 2.30.10//
CALSCALE:GREGORIAN
METHOD:PUBLISH
UID:e22974d9-6bcb-4e69-8fe4-2d4ebb3371ef
X-WR-CALDESC:Come and start your morning with Chair yoga and meditation.
X-WR-RELCALID:0af721a40b011707dc85f00b692ab722
X-WR-TIMEZONE:America/New_York
BEGIN:VTIMEZONE
TZID:America/New_York
BEGIN:STANDARD
TZNAME:EST
DTSTART:20251102T020000
TZOFFSETFROM:-0400
TZOFFSETTO:-0500
RDATE:20261101T020000
END:STANDARD
BEGIN:DAYLIGHT
TZNAME:EDT
DTSTART:20250309T020000
TZOFFSETFROM:-0500
TZOFFSETTO:-0400
RDATE:20260308T020000
RDATE:20270314T020000
END:DAYLIGHT
END:VTIMEZONE
BEGIN:VEVENT
UID:944b99a4-8469-41d5-b252-1f178a741c86
DTSTAMP:20260420T112505Z
DESCRIPTION:Come and start your morning with Chair yoga and meditation.
DTSTART;TZID=America/New_York:20251204T094500
DTEND;TZID=America/New_York:20251204T104500
LOCATION:
SUMMARY:Chair Yoga with Anita: Root to Rise and Resiliance (In Center)
END:VEVENT
END:VCALENDAR
