BEGIN:VCALENDAR
VERSION:2.0
PRODID:-//rssny.org//NONSGML kigkonsult.se iCalcreator 2.30.10//
CALSCALE:GREGORIAN
METHOD:PUBLISH
UID:3b3c3b96-edb8-4edf-a44a-350bfe0d184d
X-WR-CALDESC:This class is in the center.\n\nLevel: Beginner
X-WR-RELCALID:4e6a7c0975e6e74336c42b3335851eab
X-WR-TIMEZONE:America/New_York
BEGIN:VTIMEZONE
TZID:America/New_York
BEGIN:STANDARD
TZNAME:EST
DTSTART:20251102T020000
TZOFFSETFROM:-0400
TZOFFSETTO:-0500
RDATE:20261101T020000
END:STANDARD
BEGIN:DAYLIGHT
TZNAME:EDT
DTSTART:20250309T020000
TZOFFSETFROM:-0500
TZOFFSETTO:-0400
RDATE:20260308T020000
RDATE:20270314T020000
END:DAYLIGHT
END:VTIMEZONE
BEGIN:VEVENT
UID:55c4bf11-0117-4eea-8c34-8495bf572a93
DTSTAMP:20260420T110748Z
DESCRIPTION:This class is in the center.\n\nLevel: Beginner
DTSTART;TZID=America/New_York:20251202T130000
DTEND;TZID=America/New_York:20251202T140000
LOCATION:
SUMMARY:Tech How-To's with Caroline (IN CENTER)
END:VEVENT
END:VCALENDAR
