BEGIN:VCALENDAR
VERSION:2.0
PRODID:-//rssny.org//NONSGML kigkonsult.se iCalcreator 2.30.10//
CALSCALE:GREGORIAN
METHOD:PUBLISH
UID:7048a140-32b8-4583-9ebd-e362261f17e4
X-WR-CALDESC:
X-WR-RELCALID:84441ff131b616a1f3574511b48aa3f5
X-WR-TIMEZONE:America/New_York
BEGIN:VTIMEZONE
TZID:America/New_York
BEGIN:STANDARD
TZNAME:EST
DTSTART:20251102T020000
TZOFFSETFROM:-0400
TZOFFSETTO:-0500
RDATE:20261101T020000
END:STANDARD
BEGIN:DAYLIGHT
TZNAME:EDT
DTSTART:20250309T020000
TZOFFSETFROM:-0500
TZOFFSETTO:-0400
RDATE:20260308T020000
RDATE:20270314T020000
END:DAYLIGHT
END:VTIMEZONE
BEGIN:VEVENT
UID:60374bd5-6395-45ca-8392-7637e479ad79
DTSTAMP:20260420T122744Z
DESCRIPTION:
DTSTART;TZID=America/New_York:20251126T150000
DTEND;TZID=America/New_York:20251126T160000
LOCATION:
SUMMARY:Bingo
END:VEVENT
END:VCALENDAR
