BEGIN:VCALENDAR
VERSION:2.0
PRODID:-//rssny.org//NONSGML kigkonsult.se iCalcreator 2.30.10//
CALSCALE:GREGORIAN
METHOD:PUBLISH
UID:97260e78-36a1-4211-a0c5-afae9df10366
X-WR-CALDESC:Join us for a special Thanksgiving Chorus Concert with Cheryl 
 Warfield.
X-WR-RELCALID:1e737704e1701d6d745d4167f6cb0f3f
X-WR-TIMEZONE:America/New_York
BEGIN:VTIMEZONE
TZID:America/New_York
BEGIN:STANDARD
TZNAME:EST
DTSTART:20251102T020000
TZOFFSETFROM:-0400
TZOFFSETTO:-0500
RDATE:20261101T020000
END:STANDARD
BEGIN:DAYLIGHT
TZNAME:EDT
DTSTART:20250309T020000
TZOFFSETFROM:-0500
TZOFFSETTO:-0400
RDATE:20260308T020000
RDATE:20270314T020000
END:DAYLIGHT
END:VTIMEZONE
BEGIN:VEVENT
UID:4c942746-6fa5-4e35-b7ae-b80de3f2fcf8
DTSTAMP:20260420T123408Z
DESCRIPTION:Join us for a special Thanksgiving Chorus Concert with Cheryl W
 arfield.
DTSTART;TZID=America/New_York:20251125T130000
DTEND;TZID=America/New_York:20251125T140000
LOCATION:
SUMMARY:Thanksgiving Chorus Concert
END:VEVENT
END:VCALENDAR
