BEGIN:VCALENDAR
VERSION:2.0
PRODID:-//rssny.org//NONSGML kigkonsult.se iCalcreator 2.30.10//
CALSCALE:GREGORIAN
METHOD:PUBLISH
UID:e87ba243-f32f-400c-adc7-5f17991d3ad4
X-WR-CALDESC:This class is in the center.\n\nLevel: Beginner
X-WR-RELCALID:a7455b3364d29967feae731d7e538030
X-WR-TIMEZONE:America/New_York
BEGIN:VTIMEZONE
TZID:America/New_York
BEGIN:STANDARD
TZNAME:EST
DTSTART:20251102T020000
TZOFFSETFROM:-0400
TZOFFSETTO:-0500
RDATE:20261101T020000
END:STANDARD
BEGIN:DAYLIGHT
TZNAME:EDT
DTSTART:20250309T020000
TZOFFSETFROM:-0500
TZOFFSETTO:-0400
RDATE:20260308T020000
RDATE:20270314T020000
END:DAYLIGHT
END:VTIMEZONE
BEGIN:VEVENT
UID:6e253c79-42e7-4bcb-ade4-02a7d4bce95a
DTSTAMP:20260420T123601Z
DESCRIPTION:This class is in the center.\n\nLevel: Beginner
DTSTART;TZID=America/New_York:20251118T130000
DTEND;TZID=America/New_York:20251118T140000
LOCATION:
SUMMARY:Tech How-To's with Caroline (IN CENTER)
END:VEVENT
END:VCALENDAR
