BEGIN:VCALENDAR
VERSION:2.0
PRODID:-//rssny.org//NONSGML kigkonsult.se iCalcreator 2.30.10//
CALSCALE:GREGORIAN
METHOD:PUBLISH
UID:436002e7-1be9-4c33-ab6c-05575db1004f
X-WR-CALDESC:If you are interested in joining this group send an email to g
 estevez@rssny.org or call 718.884.5900\n\nCaregiver Support Group Blurb: T
 his supportive group is specifically for spouses caring for a loved one li
 ving with Alzheimer’s disease or another form of dementia. We meet on the 
 1st and 3rd Wednesday of each month at 1:00 PM\, both virtually and in per
 son\, to connect\, share experiences\, and gain strength through understan
 ding\, encouragement\, and practical coping strategies. As a closed group\
 , a brief meeting with the facilitator\, Gidalthy Estevez\, LMSW\, is requ
 ired prior to enrollment to ensure a comfortable and supportive fit for al
 l participants. Please contact Gidalthy Estevez\, LMSW at gestevez@rssny.o
 rg or at 718-884-5900 ext:25 to learn more or to enroll.
X-WR-RELCALID:b6216d0561fa9c30fd61385342442821
X-WR-TIMEZONE:America/New_York
BEGIN:VTIMEZONE
TZID:America/New_York
BEGIN:STANDARD
TZNAME:EST
DTSTART:20251102T020000
TZOFFSETFROM:-0400
TZOFFSETTO:-0500
RDATE:20261101T020000
END:STANDARD
BEGIN:DAYLIGHT
TZNAME:EDT
DTSTART:20250309T020000
TZOFFSETFROM:-0500
TZOFFSETTO:-0400
RDATE:20260308T020000
RDATE:20270314T020000
END:DAYLIGHT
END:VTIMEZONE
BEGIN:VEVENT
UID:b1002244-5ccb-4a3b-8587-509834735624
DTSTAMP:20260420T123421Z
DESCRIPTION:If you are interested in joining this group send an email to ge
 stevez@rssny.org or call 718.884.5900\n\nCaregiver Support Group Blurb: Th
 is supportive group is specifically for spouses caring for a loved one liv
 ing with Alzheimer’s disease or another form of dementia. We meet on the 1
 st and 3rd Wednesday of each month at 1:00 PM\, both virtually and in pers
 on\, to connect\, share experiences\, and gain strength through understand
 ing\, encouragement\, and practical coping strategies. As a closed group\,
  a brief meeting with the facilitator\, Gidalthy Estevez\, LMSW\, is requi
 red prior to enrollment to ensure a comfortable and supportive fit for all
  participants. Please contact Gidalthy Estevez\, LMSW at gestevez@rssny.or
 g or at 718-884-5900 ext:25 to learn more or to enroll.
DTSTART;TZID=America/New_York:20251105T130000
DTEND;TZID=America/New_York:20251105T140000
LOCATION:
SUMMARY:Caregivers Support Group  (Hybrid)
END:VEVENT
END:VCALENDAR
