BEGIN:VCALENDAR
VERSION:2.0
PRODID:-//rssny.org//NONSGML kigkonsult.se iCalcreator 2.30.10//
CALSCALE:GREGORIAN
METHOD:PUBLISH
UID:f38f6a49-c508-4401-b8d0-3b84c9cd5ce6
X-WR-CALDESC:This class is in the center.\n\nLevel: Beginner
X-WR-RELCALID:561bdeda41ed7fbec4025e0ed7632bfa
X-WR-TIMEZONE:America/New_York
BEGIN:VTIMEZONE
TZID:America/New_York
BEGIN:STANDARD
TZNAME:EST
DTSTART:20241103T020000
TZOFFSETFROM:-0400
TZOFFSETTO:-0500
RDATE:20251102T020000
RDATE:20261101T020000
END:STANDARD
BEGIN:DAYLIGHT
TZNAME:EDT
DTSTART:20250309T020000
TZOFFSETFROM:-0500
TZOFFSETTO:-0400
RDATE:20260308T020000
RDATE:20270314T020000
END:DAYLIGHT
END:VTIMEZONE
BEGIN:VEVENT
UID:50163994-9550-4415-bdad-988566a8eeba
DTSTAMP:20260420T140612Z
DESCRIPTION:This class is in the center.\n\nLevel: Beginner
DTSTART;TZID=America/New_York:20251028T130000
DTEND;TZID=America/New_York:20251028T140000
LOCATION:
SUMMARY:Tech How-To's with Caroline (IN CENTER)
END:VEVENT
END:VCALENDAR
