BEGIN:VCALENDAR
VERSION:2.0
PRODID:-//rssny.org//NONSGML kigkonsult.se iCalcreator 2.30.10//
CALSCALE:GREGORIAN
METHOD:PUBLISH
UID:41c1ac31-997d-4094-98a3-33f3ab1ae07f
X-WR-CALDESC:Join Barbara Denson for a monthly workshop about all things pl
 ant-related. Each month will be something new\, whether learning about var
 ious plants and plant care or engaging in fun craft projects related to th
 em.
X-WR-RELCALID:6f20baefb4400284f76a355ee6a1fa45
X-WR-TIMEZONE:America/New_York
BEGIN:VTIMEZONE
TZID:America/New_York
BEGIN:STANDARD
TZNAME:EST
DTSTART:20241103T020000
TZOFFSETFROM:-0400
TZOFFSETTO:-0500
RDATE:20251102T020000
RDATE:20261101T020000
END:STANDARD
BEGIN:DAYLIGHT
TZNAME:EDT
DTSTART:20250309T020000
TZOFFSETFROM:-0500
TZOFFSETTO:-0400
RDATE:20260308T020000
RDATE:20270314T020000
END:DAYLIGHT
END:VTIMEZONE
BEGIN:VEVENT
UID:050d0464-95f0-4d88-8950-7516ee4be067
DTSTAMP:20260420T140629Z
DESCRIPTION:Join Barbara Denson for a monthly workshop about all things pla
 nt-related. Each month will be something new\, whether learning about vari
 ous plants and plant care or engaging in fun craft projects related to the
 m.
DTSTART;TZID=America/New_York:20251027T141500
DTEND;TZID=America/New_York:20251027T151500
LOCATION:
SUMMARY:Horticultural Wellness Workshops with Barbara (In House)
END:VEVENT
END:VCALENDAR
