BEGIN:VCALENDAR
VERSION:2.0
PRODID:-//rssny.org//NONSGML kigkonsult.se iCalcreator 2.30.10//
CALSCALE:GREGORIAN
METHOD:PUBLISH
UID:42668ee4-901b-4f04-85fb-b6900628f2ce
X-WR-CALDESC:
X-WR-RELCALID:f4b914c5092483d6cd50de69de95a50e
X-WR-TIMEZONE:America/New_York
BEGIN:VTIMEZONE
TZID:America/New_York
BEGIN:STANDARD
TZNAME:EST
DTSTART:20241103T020000
TZOFFSETFROM:-0400
TZOFFSETTO:-0500
RDATE:20251102T020000
RDATE:20261101T020000
END:STANDARD
BEGIN:DAYLIGHT
TZNAME:EDT
DTSTART:20250309T020000
TZOFFSETFROM:-0500
TZOFFSETTO:-0400
RDATE:20260308T020000
RDATE:20270314T020000
END:DAYLIGHT
END:VTIMEZONE
BEGIN:VEVENT
UID:d987a310-7b5e-4c12-a123-08fd73d87082
DTSTAMP:20260420T140159Z
DESCRIPTION:
DTSTART;TZID=America/New_York:20251014T060000
DTEND;TZID=America/New_York:20251014T060001
LOCATION:
SUMMARY:Hispanic Heritage Day
END:VEVENT
END:VCALENDAR
