BEGIN:VCALENDAR
VERSION:2.0
PRODID:-//rssny.org//NONSGML kigkonsult.se iCalcreator 2.30.10//
CALSCALE:GREGORIAN
METHOD:PUBLISH
UID:af03ccf0-932b-4e9a-8392-68009ac2ca17
X-WR-CALDESC:\n
X-WR-RELCALID:0e5f39cb62959d91ceb0083e9b65648a
X-WR-TIMEZONE:America/New_York
BEGIN:VTIMEZONE
TZID:America/New_York
BEGIN:STANDARD
TZNAME:EST
DTSTART:20241103T020000
TZOFFSETFROM:-0400
TZOFFSETTO:-0500
RDATE:20251102T020000
RDATE:20261101T020000
END:STANDARD
BEGIN:DAYLIGHT
TZNAME:EDT
DTSTART:20250309T020000
TZOFFSETFROM:-0500
TZOFFSETTO:-0400
RDATE:20260308T020000
RDATE:20270314T020000
END:DAYLIGHT
END:VTIMEZONE
BEGIN:VEVENT
UID:04f55bab-3b68-45d7-80f6-948145b51164
DTSTAMP:20260420T140346Z
DESCRIPTION:\n
DTSTART;TZID=America/New_York:20251014T100000
DTEND;TZID=America/New_York:20251014T150000
LOCATION:
SUMMARY:Blood Pressure Testing (In Center)
END:VEVENT
END:VCALENDAR
