BEGIN:VCALENDAR
VERSION:2.0
PRODID:-//rssny.org//NONSGML kigkonsult.se iCalcreator 2.30.10//
CALSCALE:GREGORIAN
METHOD:PUBLISH
UID:9b1808c9-2bd5-4db7-900a-e07096300984
X-WR-CALDESC:Many seniors will experience plan terminations\, cost increase
 s\, benefit reductions on their Part C and Part D plans for next year. Cai
 tlin Stiene-Forese from Medicare Resource Group will give an educational o
 verview of those changes and how you can soften your impact if you are bei
 ng affected\n\nJoin us for this important presentation.\n\n
X-WR-RELCALID:6d55fea7756a4c4ba389fa45f58bffde
X-WR-TIMEZONE:America/New_York
BEGIN:VTIMEZONE
TZID:America/New_York
BEGIN:STANDARD
TZNAME:EST
DTSTART:20241103T020000
TZOFFSETFROM:-0400
TZOFFSETTO:-0500
RDATE:20251102T020000
RDATE:20261101T020000
END:STANDARD
BEGIN:DAYLIGHT
TZNAME:EDT
DTSTART:20250309T020000
TZOFFSETFROM:-0500
TZOFFSETTO:-0400
RDATE:20260308T020000
RDATE:20270314T020000
END:DAYLIGHT
END:VTIMEZONE
BEGIN:VEVENT
UID:3bd23c51-5208-47cd-bce5-6dc4a0b6e1f4
DTSTAMP:20260420T140818Z
DESCRIPTION:Many seniors will experience plan terminations\, cost increases
 \, benefit reductions on their Part C and Part D plans for next year. Cait
 lin Stiene-Forese from Medicare Resource Group will give an educational ov
 erview of those changes and how you can soften your impact if you are bein
 g affected\n\nJoin us for this important presentation.\n\n
DTSTART;TZID=America/New_York:20251007T131500
DTEND;TZID=America/New_York:20251007T143000
LOCATION:
SUMMARY:Medicare: Big Changes 2026 with Caitlin Stiene (Hybrid - Caitlin wi
 ll be in the Center)
END:VEVENT
END:VCALENDAR
