BEGIN:VCALENDAR
VERSION:2.0
PRODID:-//rssny.org//NONSGML kigkonsult.se iCalcreator 2.30.10//
CALSCALE:GREGORIAN
METHOD:PUBLISH
UID:ed9553ea-80d2-4eb3-b501-7355575f9235
X-WR-CALDESC:If you are interested in joining this group send an email to g
 estevez@rssny.org or call 718.884.5900
X-WR-RELCALID:d65af4a48f145f44077d10e45e823ad3
X-WR-TIMEZONE:America/New_York
BEGIN:VTIMEZONE
TZID:America/New_York
BEGIN:STANDARD
TZNAME:EST
DTSTART:20241103T020000
TZOFFSETFROM:-0400
TZOFFSETTO:-0500
RDATE:20251102T020000
RDATE:20261101T020000
END:STANDARD
BEGIN:DAYLIGHT
TZNAME:EDT
DTSTART:20250309T020000
TZOFFSETFROM:-0500
TZOFFSETTO:-0400
RDATE:20260308T020000
RDATE:20270314T020000
END:DAYLIGHT
END:VTIMEZONE
BEGIN:VEVENT
UID:6700cd94-0325-45b5-a8d4-76504f9fb366
DTSTAMP:20260420T140347Z
DESCRIPTION:If you are interested in joining this group send an email to ge
 stevez@rssny.org or call 718.884.5900
DTSTART;TZID=America/New_York:20251001T130000
DTEND;TZID=America/New_York:20251001T140000
LOCATION:
SUMMARY:Caregivers Support Group  (Hybrid)
END:VEVENT
END:VCALENDAR
