BEGIN:VCALENDAR
VERSION:2.0
PRODID:-//rssny.org//NONSGML kigkonsult.se iCalcreator 2.30.10//
CALSCALE:GREGORIAN
METHOD:PUBLISH
UID:c09e0558-17b3-423e-a574-6404fc63417b
X-WR-CALDESC:To register: https://rssny.org/class-forms/guided-meditation-w
 ith-barbara.html\n\nJoin Barbara for a guided meditation mixed with Laught
 er. Find out how laughing can help raise your vibration and enhance your m
 editation to higher levels.\n\nLed by Barbara Denson
X-WR-RELCALID:5ecffefe4f821aacb1c7406c6f9bd6b2
X-WR-TIMEZONE:America/New_York
BEGIN:VTIMEZONE
TZID:America/New_York
BEGIN:STANDARD
TZNAME:EST
DTSTART:20241103T020000
TZOFFSETFROM:-0400
TZOFFSETTO:-0500
RDATE:20251102T020000
RDATE:20261101T020000
END:STANDARD
BEGIN:DAYLIGHT
TZNAME:EDT
DTSTART:20250309T020000
TZOFFSETFROM:-0500
TZOFFSETTO:-0400
RDATE:20260308T020000
RDATE:20270314T020000
END:DAYLIGHT
END:VTIMEZONE
BEGIN:VEVENT
UID:825a7d4c-7040-4e6a-9414-fe956b2f19d2
DTSTAMP:20260420T154045Z
DESCRIPTION:To register: https://rssny.org/class-forms/guided-meditation-wi
 th-barbara.html\n\nJoin Barbara for a guided meditation mixed with Laughte
 r. Find out how laughing can help raise your vibration and enhance your me
 ditation to higher levels.\n\nLed by Barbara Denson
DTSTART;TZID=America/New_York:20250926T141500
DTEND;TZID=America/New_York:20250926T151500
LOCATION:https://rssny.org/class-forms/guided-meditation-with-barbara.html
SUMMARY:Guided Meditation and Laughter with Barbara (Hybrid)
END:VEVENT
END:VCALENDAR
