BEGIN:VCALENDAR
VERSION:2.0
PRODID:-//rssny.org//NONSGML kigkonsult.se iCalcreator 2.30.10//
CALSCALE:GREGORIAN
METHOD:PUBLISH
UID:4553662f-324a-4b73-8465-29b624c77465
X-WR-CALDESC:Enjoy an Afternoon Herbal Tea. Learn about the health benefits
  of herbal teas and have fun making your own combination to enjoy.
X-WR-RELCALID:2df335db5569ad06e73a401217822fb0
X-WR-TIMEZONE:America/New_York
BEGIN:VTIMEZONE
TZID:America/New_York
BEGIN:STANDARD
TZNAME:EST
DTSTART:20241103T020000
TZOFFSETFROM:-0400
TZOFFSETTO:-0500
RDATE:20251102T020000
RDATE:20261101T020000
END:STANDARD
BEGIN:DAYLIGHT
TZNAME:EDT
DTSTART:20250309T020000
TZOFFSETFROM:-0500
TZOFFSETTO:-0400
RDATE:20260308T020000
RDATE:20270314T020000
END:DAYLIGHT
END:VTIMEZONE
BEGIN:VEVENT
UID:d9a99afe-fb0e-4ced-bb05-045fb04771fa
DTSTAMP:20260420T155326Z
DESCRIPTION:Enjoy an Afternoon Herbal Tea. Learn about the health benefits 
 of herbal teas and have fun making your own combination to enjoy.
DTSTART;TZID=America/New_York:20250926T103000
DTEND;TZID=America/New_York:20250926T120000
LOCATION:
SUMMARY:Wellness Tea with Barbara: Botanical Wellness (In House)
END:VEVENT
END:VCALENDAR
