BEGIN:VCALENDAR
VERSION:2.0
PRODID:-//rssny.org//NONSGML kigkonsult.se iCalcreator 2.30.10//
CALSCALE:GREGORIAN
METHOD:PUBLISH
UID:582cd5d7-206e-43b4-935a-337a9a8e8741
X-WR-CALDESC:This writing group is for anyone who likes to write\, likes to
  share\, and enjoys creating both memoir and fictional writing.  Every wee
 k I give a prompt to focus on\, and the following week everyone has a chan
 ce to share what he/she has written.  There is time\, then\, to comment by
  picking a phrase or sentence that stood out for the listener as exception
 al or reminiscent.\n\nIf you are interested in joining send an email to in
 fo@rssny.org
X-WR-RELCALID:01c7b1da6391d0dcf9f57b7733b0a93a
X-WR-TIMEZONE:America/New_York
BEGIN:VTIMEZONE
TZID:America/New_York
BEGIN:STANDARD
TZNAME:EST
DTSTART:20241103T020000
TZOFFSETFROM:-0400
TZOFFSETTO:-0500
RDATE:20251102T020000
RDATE:20261101T020000
END:STANDARD
BEGIN:DAYLIGHT
TZNAME:EDT
DTSTART:20250309T020000
TZOFFSETFROM:-0500
TZOFFSETTO:-0400
RDATE:20260308T020000
RDATE:20270314T020000
END:DAYLIGHT
END:VTIMEZONE
BEGIN:VEVENT
UID:93c676f4-0808-4d17-b220-87db364933d5
DTSTAMP:20260420T154619Z
DESCRIPTION:This writing group is for anyone who likes to write\, likes to 
 share\, and enjoys creating both memoir and fictional writing.  Every week
  I give a prompt to focus on\, and the following week everyone has a chanc
 e to share what he/she has written.  There is time\, then\, to comment by 
 picking a phrase or sentence that stood out for the listener as exceptiona
 l or reminiscent.\n\nIf you are interested in joining send an email to inf
 o@rssny.org
DTSTART;TZID=America/New_York:20250922T123000
DTEND;TZID=America/New_York:20250922T140000
LOCATION:
SUMMARY:Write On! Writing Your Memories - Online CANCELED
END:VEVENT
END:VCALENDAR
