BEGIN:VCALENDAR
VERSION:2.0
PRODID:-//rssny.org//NONSGML kigkonsult.se iCalcreator 2.30.10//
CALSCALE:GREGORIAN
METHOD:PUBLISH
UID:0c912ee5-ec81-4c1c-ae81-b50075c4a25d
X-WR-CALDESC:Weekly non-competitive bridge game
X-WR-RELCALID:dec4da31db6bda545a068a9768b2352b
X-WR-TIMEZONE:America/New_York
BEGIN:VTIMEZONE
TZID:America/New_York
BEGIN:STANDARD
TZNAME:EST
DTSTART:20241103T020000
TZOFFSETFROM:-0400
TZOFFSETTO:-0500
RDATE:20251102T020000
RDATE:20261101T020000
END:STANDARD
BEGIN:DAYLIGHT
TZNAME:EDT
DTSTART:20250309T020000
TZOFFSETFROM:-0500
TZOFFSETTO:-0400
RDATE:20260308T020000
RDATE:20270314T020000
END:DAYLIGHT
END:VTIMEZONE
BEGIN:VEVENT
UID:5ad8db88-d0ca-47c1-9d0e-8ea6b7aa49f8
DTSTAMP:20260420T154802Z
DESCRIPTION:Weekly non-competitive bridge game
DTSTART;TZID=America/New_York:20250912T140000
DTEND;TZID=America/New_York:20250912T163000
LOCATION:
SUMMARY:Leisure Games Bridge (In Center)
END:VEVENT
END:VCALENDAR
