BEGIN:VCALENDAR
VERSION:2.0
PRODID:-//rssny.org//NONSGML kigkonsult.se iCalcreator 2.30.10//
CALSCALE:GREGORIAN
METHOD:PUBLISH
UID:13ed931c-1e81-4a32-90c4-a54d0b758d82
X-WR-CALDESC:National Hispanic Heritage Month: Julio Iglesias\, Spanish sin
 ger\, songwriter and former professional footballer.\nhttps://en.wikipedia
 .org/wiki/Julio_Iglesias
X-WR-RELCALID:6bc923861d3984962a3d516943729139
X-WR-TIMEZONE:America/New_York
BEGIN:VTIMEZONE
TZID:America/New_York
BEGIN:STANDARD
TZNAME:EST
DTSTART:20241103T020000
TZOFFSETFROM:-0400
TZOFFSETTO:-0500
RDATE:20251102T020000
RDATE:20261101T020000
END:STANDARD
BEGIN:DAYLIGHT
TZNAME:EDT
DTSTART:20250309T020000
TZOFFSETFROM:-0500
TZOFFSETTO:-0400
RDATE:20260308T020000
END:DAYLIGHT
END:VTIMEZONE
BEGIN:VEVENT
UID:ac397c9a-9494-4754-9041-999aa9de02c9
DTSTAMP:20260420T161032Z
DESCRIPTION:National Hispanic Heritage Month: Julio Iglesias\, Spanish sing
 er\, songwriter and former professional footballer.\nhttps://en.wikipedia.
 org/wiki/Julio_Iglesias
DTSTART;TZID=America/New_York:20250907T160000
DTEND;TZID=America/New_York:20250907T171500
LOCATION:https://rssny.org/music_appreciation.html
SUMMARY:Music Appreciation with Diana: National Hispanic Heritage Month: Ju
 lio Iglesias (Online)
END:VEVENT
END:VCALENDAR
