BEGIN:VCALENDAR
VERSION:2.0
PRODID:-//rssny.org//NONSGML kigkonsult.se iCalcreator 2.30.10//
CALSCALE:GREGORIAN
METHOD:PUBLISH
UID:c1209e2e-d8a9-401f-a10c-00bc1934e048
X-WR-CALDESC:Join us on the RSS Terrace Garden where you will help plant he
 rbs and vegetables to share with the members. Help to create a beneficial 
 native plant garden that will beautify the neighborhood.
X-WR-RELCALID:58de7568694c07be4439b9139e2101f3
X-WR-TIMEZONE:America/New_York
BEGIN:VTIMEZONE
TZID:America/New_York
BEGIN:STANDARD
TZNAME:EST
DTSTART:20241103T020000
TZOFFSETFROM:-0400
TZOFFSETTO:-0500
RDATE:20251102T020000
RDATE:20261101T020000
END:STANDARD
BEGIN:DAYLIGHT
TZNAME:EDT
DTSTART:20250309T020000
TZOFFSETFROM:-0500
TZOFFSETTO:-0400
RDATE:20260308T020000
END:DAYLIGHT
END:VTIMEZONE
BEGIN:VEVENT
UID:8e6acd7d-cef7-495c-ab0d-04d5824fb8d0
DTSTAMP:20260420T154751Z
DESCRIPTION:Join us on the RSS Terrace Garden where you will help plant her
 bs and vegetables to share with the members. Help to create a beneficial n
 ative plant garden that will beautify the neighborhood.
DTSTART;TZID=America/New_York:20250905T140000
DTEND;TZID=America/New_York:20250905T150000
LOCATION:
SUMMARY:CANCELLED Gardening Group (In Center)
END:VEVENT
END:VCALENDAR
