BEGIN:VCALENDAR
VERSION:2.0
PRODID:-//rssny.org//NONSGML kigkonsult.se iCalcreator 2.30.10//
CALSCALE:GREGORIAN
METHOD:PUBLISH
UID:d075c7ac-f7b2-4b0a-9be5-58843b9d09bc
X-WR-CALDESC:Weekly non-competitive bridge game
X-WR-RELCALID:1dcd704f439682d5331902405415d151
X-WR-TIMEZONE:America/New_York
BEGIN:VTIMEZONE
TZID:America/New_York
BEGIN:STANDARD
TZNAME:EST
DTSTART:20241103T020000
TZOFFSETFROM:-0400
TZOFFSETTO:-0500
RDATE:20251102T020000
RDATE:20261101T020000
END:STANDARD
BEGIN:DAYLIGHT
TZNAME:EDT
DTSTART:20250309T020000
TZOFFSETFROM:-0500
TZOFFSETTO:-0400
RDATE:20260308T020000
END:DAYLIGHT
END:VTIMEZONE
BEGIN:VEVENT
UID:b18b2f14-5858-4ea8-8343-59a2e59c0002
DTSTAMP:20260420T172316Z
DESCRIPTION:Weekly non-competitive bridge game
DTSTART;TZID=America/New_York:20250829T140000
DTEND;TZID=America/New_York:20250829T163000
LOCATION:
SUMMARY:Leisure Games Bridge (In Center)
END:VEVENT
END:VCALENDAR
