BEGIN:VCALENDAR
VERSION:2.0
PRODID:-//rssny.org//NONSGML kigkonsult.se iCalcreator 2.30.10//
CALSCALE:GREGORIAN
METHOD:PUBLISH
UID:de5ea8a6-f9e5-46a1-ac50-7a87ddff469f
X-WR-CALDESC:Join us on the RSS Terrace Garden where you will help plant he
 rbs and vegetables to share with the members. Help to create a beneficial 
 native plant garden that will beautify the neighborhood.
X-WR-RELCALID:8853888c0961cbc3388ad684db5d14c1
X-WR-TIMEZONE:America/New_York
BEGIN:VTIMEZONE
TZID:America/New_York
BEGIN:STANDARD
TZNAME:EST
DTSTART:20241103T020000
TZOFFSETFROM:-0400
TZOFFSETTO:-0500
RDATE:20251102T020000
RDATE:20261101T020000
END:STANDARD
BEGIN:DAYLIGHT
TZNAME:EDT
DTSTART:20250309T020000
TZOFFSETFROM:-0500
TZOFFSETTO:-0400
RDATE:20260308T020000
END:DAYLIGHT
END:VTIMEZONE
BEGIN:VEVENT
UID:770e323b-4de8-4ba0-9ce5-37469024fa00
DTSTAMP:20260420T172601Z
DESCRIPTION:Join us on the RSS Terrace Garden where you will help plant her
 bs and vegetables to share with the members. Help to create a beneficial n
 ative plant garden that will beautify the neighborhood.
DTSTART;TZID=America/New_York:20250826T140000
DTEND;TZID=America/New_York:20250826T150000
LOCATION:
SUMMARY:Gardening Group (In Center) CANCELED
END:VEVENT
END:VCALENDAR
