BEGIN:VCALENDAR
VERSION:2.0
PRODID:-//rssny.org//NONSGML kigkonsult.se iCalcreator 2.30.10//
CALSCALE:GREGORIAN
METHOD:PUBLISH
UID:263ebf7f-bd03-41a7-acd1-07357f01ba85
X-WR-CALDESC:This class is in the center.\n\nLevel: Beginner\n\nThe session
  is led by Tabitha Rosa\, the RSS Tech Specialist and Digital Engagement C
 oordinator.
X-WR-RELCALID:95fb541fd7d559083400ec6e26981894
X-WR-TIMEZONE:America/New_York
BEGIN:VTIMEZONE
TZID:America/New_York
BEGIN:STANDARD
TZNAME:EST
DTSTART:20241103T020000
TZOFFSETFROM:-0400
TZOFFSETTO:-0500
RDATE:20251102T020000
RDATE:20261101T020000
END:STANDARD
BEGIN:DAYLIGHT
TZNAME:EDT
DTSTART:20250309T020000
TZOFFSETFROM:-0500
TZOFFSETTO:-0400
RDATE:20260308T020000
END:DAYLIGHT
END:VTIMEZONE
BEGIN:VEVENT
UID:f3c4208b-6ca5-4779-b640-11a0d6fe1d62
DTSTAMP:20260420T171954Z
DESCRIPTION:This class is in the center.\n\nLevel: Beginner\n\nThe session 
 is led by Tabitha Rosa\, the RSS Tech Specialist and Digital Engagement Co
 ordinator.
DTSTART;TZID=America/New_York:20250826T110000
DTEND;TZID=America/New_York:20250826T120000
LOCATION:
SUMMARY:Tech How to: Understanding Phone Settings Part 2 (IN CENTER)
END:VEVENT
END:VCALENDAR
