BEGIN:VCALENDAR
VERSION:2.0
PRODID:-//rssny.org//NONSGML kigkonsult.se iCalcreator 2.30.10//
CALSCALE:GREGORIAN
METHOD:PUBLISH
UID:930a4834-e94d-4be8-b92c-7bd36762ed23
X-WR-CALDESC:Join us on select Fridays through the summer for Decades of Fu
 n!
X-WR-RELCALID:51a5e8910871adcf76bf8e015b637a8b
X-WR-TIMEZONE:America/New_York
BEGIN:VTIMEZONE
TZID:America/New_York
BEGIN:STANDARD
TZNAME:EST
DTSTART:20241103T020000
TZOFFSETFROM:-0400
TZOFFSETTO:-0500
RDATE:20251102T020000
RDATE:20261101T020000
END:STANDARD
BEGIN:DAYLIGHT
TZNAME:EDT
DTSTART:20250309T020000
TZOFFSETFROM:-0500
TZOFFSETTO:-0400
RDATE:20260308T020000
END:DAYLIGHT
END:VTIMEZONE
BEGIN:VEVENT
UID:025d60bb-2c3b-44ce-a16a-eae8e026ca71
DTSTAMP:20260420T172723Z
DESCRIPTION:Join us on select Fridays through the summer for Decades of Fun
 !
DTSTART;TZID=America/New_York:20250822T110000
DTEND;TZID=America/New_York:20250822T120000
LOCATION:
SUMMARY:Fun Friday: Decades of Fun - 1980s: Karaoke (In Center)
END:VEVENT
END:VCALENDAR
