BEGIN:VCALENDAR
VERSION:2.0
PRODID:-//rssny.org//NONSGML kigkonsult.se iCalcreator 2.30.10//
CALSCALE:GREGORIAN
METHOD:PUBLISH
UID:ed474aa3-d3aa-44d6-81d3-c7ba4a28117a
X-WR-CALDESC:To register: https://rssny.org/class-forms/ny-presbyterian.htm
 l
X-WR-RELCALID:5686a4c4f122b258f147fbe25e671e59
X-WR-TIMEZONE:America/New_York
BEGIN:VTIMEZONE
TZID:America/New_York
BEGIN:STANDARD
TZNAME:EST
DTSTART:20241103T020000
TZOFFSETFROM:-0400
TZOFFSETTO:-0500
RDATE:20251102T020000
RDATE:20261101T020000
END:STANDARD
BEGIN:DAYLIGHT
TZNAME:EDT
DTSTART:20250309T020000
TZOFFSETFROM:-0500
TZOFFSETTO:-0400
RDATE:20260308T020000
END:DAYLIGHT
END:VTIMEZONE
BEGIN:VEVENT
UID:847df818-93f3-4755-a39c-cbb59047085f
DTSTAMP:20260420T172830Z
DESCRIPTION:To register: https://rssny.org/class-forms/ny-presbyterian.html
DTSTART;TZID=America/New_York:20250815T131500
DTEND;TZID=America/New_York:20250815T140000
LOCATION:https://rssny.org/class-forms/ny-presbyterian.html
SUMMARY:NY Presbyterian Nutrition: Flourishing with Fiber (Hybrid)
END:VEVENT
END:VCALENDAR
